BEGIN:VCALENDAR
VERSION:2.0
PRODID:-//89.110.144.62//NONSGML kigkonsult.se iCalcreator 2.20//
CALSCALE:GREGORIAN
METHOD:PUBLISH
X-WR-TIMEZONE:Europe/Berlin
BEGIN:VEVENT
UID:event70@Heimatmuseum Lütgendortmund | Haus Dellwig
DTSTAMP:20260422T221025Z
CATEGORIES:Heimatmuseum
DESCRIPTION:Aufräum- und Putztag\nKategorie: Heimatmuseum\nICS-Link: https:
 //www.museum-luedo.de/index.php?option=com_jem&view=event&id=70:aufraeum-u
 nd-putztag\n
DTSTART;TZID=Europe/Berlin:20260509T100000
DTEND;TZID=Europe/Berlin:20260509T100000
SUMMARY:Aufräum- und Putztag
URL:https://www.museum-luedo.de/index.php?option=com_jem&view=event&id=70:a
 ufraeum-und-putztag
END:VEVENT
END:VCALENDAR